BEGIN:VCALENDAR
VERSION:2.0
PRODID:-//ChamberMaster//Event Calendar 2.0//EN
METHOD:PUBLISH
X-PUBLISHED-TTL:P3D
REFRESH-INTERVAL:P3D
CALSCALE:GREGORIAN
BEGIN:VEVENT
DTSTART:20220616T190000Z
DTEND:20220616T200000Z
X-MICROSOFT-CDO-ALLDAYEVENT:FALSE
SUMMARY:6/16 Ribbon Cutting Kelly Davison Notary Public
DESCRIPTION:
X-ALT-DESC;FMTTYPE=text/html:
LOCATION:Grossmont Escrow 7870 El Cajon Blvd. La Mesa\, CA 91942
UID:e.895.14077
SEQUENCE:3
DTSTAMP:20260421T220706Z
URL:https://business.eastcountychamber.org/events/details/6-16-ribbon-cutting-kelly-davison-notary-public-14077
END:VEVENT

END:VCALENDAR
