BEGIN:VCALENDAR
VERSION:2.0
PRODID:-//ChamberMaster//Event Calendar 2.0//EN
METHOD:PUBLISH
X-PUBLISHED-TTL:P3D
REFRESH-INTERVAL:P3D
CALSCALE:GREGORIAN
BEGIN:VEVENT
DTSTART:20220602T190000Z
DTEND:20220602T203000Z
X-MICROSOFT-CDO-ALLDAYEVENT:FALSE
SUMMARY:6/2 Dine & Dialogue w/ Chair Nathan Fletcher
DESCRIPTION:Dine & Dialogue with Chair of the San Diego County Board of Supervisors\, Nathan Fletcher.\n\nSponsored by AT&T
X-ALT-DESC;FMTTYPE=text/html:<span style="font-size:18px\;"><span style="font-family: latoregular\, Arial\, sans-serif\;">Dine &amp\; Dialogue with Chair of the San Diego County Board of Supervisors\, Nathan Fletcher.<br />\nSponsored by AT&amp\;T</span></span>
LOCATION:San Diego Regional East County Chamber of Commerce Business Resource Center 201 S. Magnolia Ave. El Cajon\, CA 92020
UID:e.895.14016
SEQUENCE:3
DTSTAMP:20260421T182549Z
URL:https://business.eastcountychamber.org/events/details/6-2-dine-dialogue-w-chair-nathan-fletcher-14016
END:VEVENT

END:VCALENDAR
