BEGIN:VCALENDAR
VERSION:2.0
PRODID:-//ChamberMaster//Event Calendar 2.0//EN
METHOD:PUBLISH
X-PUBLISHED-TTL:P3D
REFRESH-INTERVAL:P3D
CALSCALE:GREGORIAN
BEGIN:VEVENT
DTSTART:20220622T190000Z
DTEND:20220622T200000Z
X-MICROSOFT-CDO-ALLDAYEVENT:FALSE
SUMMARY:6/22 Lunch & Learn w/Charlene Waddell
DESCRIPTION:Everyone Communicates. Few Connect.\n\n\n\nCharlene Waddell is "A Leader's Best Friend." She is also a community leader\, minister\, and advocate. Over the last 40 years\, Charlene has served in leadership positions across various industries and has developed an expertise and a passion for fostering environments for growth. She focuses her passion on working with business leaders\, helping them and their teams make transformational shifts. Charlene helps organizations improve productivity\, performance\, and profitability through leadership training.
X-ALT-DESC;FMTTYPE=text/html:<span style="color: rgb(37\, 37\, 37)\; font-family: Lato\, sans-serif\; font-size: 20px\;">Everyone Communicates. Few Connect.</span><br />\n<br />\n<span style="font-size:18px\;"><span style="font-family:arial\;"><span style="border:none windowtext 1.0pt\;padding:0in\;"><span style="color:black\;">Charlene Waddell is&nbsp\;&quot\;A Leader&rsquo\;s Best Friend.&quot\;&nbsp\;She is also a community leader\, minister\, and advocate.&nbsp\;</span></span><span style="color:black\;">Over the last 40&nbsp\;years\, Charlene has served in&nbsp\;leadership positions across various industries and has developed an expertise and a passion for fostering environments for growth. She focuses her&nbsp\;passion on working with business leaders\, helping them and their teams make transformational shifts.&nbsp\;Charlene helps organizations&nbsp\;improve productivity\, performance\, and profitability through leadership training.</span></span></span><br />\n&nbsp\;
LOCATION:From the comfort of your home\, office\, or home office! East County Chamber of Commerce is inviting you to a scheduled Zoom meeting. Topic: Lunch & Learn w/ Charlene Waddell Time: Jun 22\, 2022 12:00 PM Pacific Time (US and Canada) Join Zoom Meeting https://us06web.zoom.us/j/81440229366 Meeting ID: 814 4022 9366 One tap mobile +14086380968\,\,81440229366# US (San Jose) +16699006833\,\,81440229366# US (San Jose) Dial by your location +1 408 638 0968 US (San Jose) +1 669 900 6833 US (San Jose) +1 253 215 8782 US (Tacoma) +1 346 248 7799 US (Houston) +1 301 715 8592 US (Washington DC) +1 312 626 6799 US (Chicago) +1 646 876 9923 US (New York) Meeting ID: 814 4022 9366 Find your local number: https://us06web.zoom.us/u/keGUuqw93I
UID:e.895.14071
SEQUENCE:3
DTSTAMP:20260421T214003Z
URL:https://business.eastcountychamber.org/events/details/6-22-lunch-learn-w-charlene-waddell-14071
END:VEVENT

END:VCALENDAR
