BEGIN:VCALENDAR
VERSION:2.0
PRODID:-//ChamberMaster//Event Calendar 2.0//EN
METHOD:PUBLISH
X-PUBLISHED-TTL:P3D
REFRESH-INTERVAL:P3D
CALSCALE:GREGORIAN
BEGIN:VEVENT
DTSTART:20220604T230000Z
DTEND:20220605T010000Z
X-MICROSOFT-CDO-ALLDAYEVENT:FALSE
SUMMARY:6/4 Ribbon Cutting - Allstate Elite Club Insurance
DESCRIPTION:Grand Opening of Allstate - Elite Club Insurance \n\nAllstate | Car Insurance in El Cajon\, CA - Matt Kazan
X-ALT-DESC;FMTTYPE=text/html:<span style="font-size:18px\;">Grand Opening of Allstate - Elite Club Insurance&nbsp\;</span><br />\n<a href="https://agents.allstate.com/matt-kazan-el-cajon-ca.html">Allstate | Car Insurance in El Cajon\, CA - Matt Kazan</a>
LOCATION:353 E. Park Blvd. Suite 204 El Cajon\, CA 92020
UID:e.895.14065
SEQUENCE:3
DTSTAMP:20260421T220833Z
URL:https://business.eastcountychamber.org/events/details/6-4-ribbon-cutting-allstate-elite-club-insurance-14065
END:VEVENT

END:VCALENDAR
