BEGIN:VCALENDAR
VERSION:2.0
PRODID:-//ChamberMaster//Event Calendar 2.0//EN
METHOD:PUBLISH
X-PUBLISHED-TTL:P3D
REFRESH-INTERVAL:P3D
CALSCALE:GREGORIAN
BEGIN:VEVENT
DTSTART:20220609T163000Z
DTEND:20220609T180000Z
X-MICROSOFT-CDO-ALLDAYEVENT:FALSE
SUMMARY:6/9 Ribbon Cutting Ceremony CHARLENE SPEAKS
DESCRIPTION:Ribbon Cutting Ceremony and recognition of Charlene Waddell for seven years of outstanding motivational speaking with Charlene Speaks.
X-ALT-DESC;FMTTYPE=text/html:<span style="font-size:18px\;">Ribbon Cutting Ceremony and recognition of Charlene Waddell for seven years of outstanding motivational speaking with&nbsp\;<em>Charlene Speaks.</em></span>
LOCATION:San Diego Regional East County Chamber of Commerce 201 S. Magnolia Ave. El Cajon\, CA 92020
UID:e.895.14064
SEQUENCE:3
DTSTAMP:20260421T214101Z
URL:https://business.eastcountychamber.org/events/details/6-9-ribbon-cutting-ceremony-charlene-speaks-14064
END:VEVENT

END:VCALENDAR
