BEGIN:VCALENDAR
VERSION:2.0
PRODID:-//ChamberMaster//Event Calendar 2.0//EN
METHOD:PUBLISH
X-PUBLISHED-TTL:P3D
REFRESH-INTERVAL:P3D
CALSCALE:GREGORIAN
BEGIN:VEVENT
DTSTART:20220715T160000Z
DTEND:20220715T173000Z
X-MICROSOFT-CDO-ALLDAYEVENT:FALSE
SUMMARY:7/15 Ribbon Cutting & Grand Opening McGovern Law Group
DESCRIPTION:The McGovern Law Group is excited to announce the grand opening of our second office! We will now be available to serve East County's estate planning needs from our La Mesa and Alpine locations. Join us in Alpine to celebrate with light refreshments and a ribbon cutting ceremony!
X-ALT-DESC;FMTTYPE=text/html:<span style="font-size:18px\;">The McGovern Law Group is excited to announce the grand opening of our second office! We will now be available to serve East County&#39\;s estate planning needs from our La Mesa and Alpine locations. Join us in Alpine to celebrate with light refreshments and a ribbon cutting ceremony!</span>
LOCATION:2524 Alpine Blvd. Ste. A Alpine\, CA 91901 (next to Janet?s Montana Cafe)
UID:e.895.14103
SEQUENCE:3
DTSTAMP:20260421T182732Z
URL:https://business.eastcountychamber.org/events/details/7-15-ribbon-cutting-grand-opening-mcgovern-law-group-14103
END:VEVENT

END:VCALENDAR
