BEGIN:VCALENDAR
VERSION:2.0
PRODID:-//ChamberMaster//Event Calendar 2.0//EN
METHOD:PUBLISH
X-PUBLISHED-TTL:P3D
REFRESH-INTERVAL:P3D
CALSCALE:GREGORIAN
BEGIN:VEVENT
DTSTART:20220722T003000Z
DTEND:20220722T030000Z
X-MICROSOFT-CDO-ALLDAYEVENT:FALSE
SUMMARY:7/21: Business After Hours at Burning Beard
DESCRIPTION:Network after work at Burning Beard Brewing with Chamber Member Business Magers Money Management!
X-ALT-DESC;FMTTYPE=text/html:<span style="font-size:18px\;"><span style="font-family:arial\;">Network after work at Burning Beard Brewing with Chamber Member Business Magers Money Management!</span></span><br />\n&nbsp\;
LOCATION:785 Vernon Way El Cajon\, CA 92020
UID:e.895.14349
SEQUENCE:3
DTSTAMP:20260421T180305Z
URL:https://business.eastcountychamber.org/events/details/7-21-business-after-hours-at-burning-beard-14349
END:VEVENT

END:VCALENDAR
