BEGIN:VCALENDAR
VERSION:2.0
PRODID:-//ChamberMaster//Event Calendar 2.0//EN
METHOD:PUBLISH
X-PUBLISHED-TTL:P3D
REFRESH-INTERVAL:P3D
CALSCALE:GREGORIAN
BEGIN:VEVENT
DTSTART:20220721T163000Z
DTEND:20220721T180000Z
X-MICROSOFT-CDO-ALLDAYEVENT:FALSE
SUMMARY:7/21 Ribbon Cutting Fiesta Auto Insurance El Cajon
DESCRIPTION:Grand Opening Celebration!
X-ALT-DESC;FMTTYPE=text/html:Grand Opening Celebration!
LOCATION:Fiesta Auto Insurance El Cajon 544 Jamacha Rd. El Cajon\, CA 92019
UID:e.895.14343
SEQUENCE:3
DTSTAMP:20260421T183020Z
URL:https://business.eastcountychamber.org/events/details/7-21-ribbon-cutting-fiesta-auto-insurance-el-cajon-14343
END:VEVENT

END:VCALENDAR
