BEGIN:VCALENDAR
VERSION:2.0
PRODID:-//ChamberMaster//Event Calendar 2.0//EN
METHOD:PUBLISH
X-PUBLISHED-TTL:P3D
REFRESH-INTERVAL:P3D
CALSCALE:GREGORIAN
BEGIN:VEVENT
DTSTART:20220728T183000Z
DTEND:20220728T203000Z
X-MICROSOFT-CDO-ALLDAYEVENT:FALSE
SUMMARY:7/28 Ribbon Cutting and Grand Opening Batteries Plus El Cajon
DESCRIPTION:Celebrate the Grand Opening of Batteries Plus El Cajon with a ribbon cutting\, lunch\, and prizes! Dang Brother Pizza Food Truck will be on site.  Free t-shirt and raffle for a generator!
X-ALT-DESC;FMTTYPE=text/html:<span style="font-size:18px\;">Celebrate the Grand Opening of Batteries Plus El Cajon with a ribbon cutting\, lunch\, and prizes! Dang Brother Pizza Food Truck will be on site.&nbsp\; Free t-shirt and raffle for a generator!</span>
LOCATION:Batteries Plus El Cajon 1551 N. Magnolia Ave. Suite 102 El Cajon\, CA 92020
UID:e.895.14344
SEQUENCE:3
DTSTAMP:20260421T182924Z
URL:https://business.eastcountychamber.org/events/details/7-28-ribbon-cutting-and-grand-opening-batteries-plus-el-cajon-14344
END:VEVENT

END:VCALENDAR
