BEGIN:VCALENDAR
VERSION:2.0
PRODID:-//ChamberMaster//Event Calendar 2.0//EN
METHOD:PUBLISH
X-PUBLISHED-TTL:P3D
REFRESH-INTERVAL:P3D
CALSCALE:GREGORIAN
BEGIN:VEVENT
DTSTART:20220811T190000Z
DTEND:20220811T203000Z
X-MICROSOFT-CDO-ALLDAYEVENT:FALSE
SUMMARY:8/11 Dine & Dialogue w/Congressman Issa
DESCRIPTION:Sit down with California's 50th Congressional District Congressman\, Darrell Issa.\n\nCongressman Darrell Issa represents California's 50th Congressional District in the U.S. House of Representatives. The District encompasses the central and northeastern parts of San Diego County and a portion of Riverside County\, including Fallbrook\, San Marcos\, Valley Center\, Ramona\, Escondido\, Santee\, Lakeside\, El Cajon\, Temecula\, and the mountain and desert areas of the San Diego-Imperial County line.
X-ALT-DESC;FMTTYPE=text/html:<span style="color:#000000\;"><span style="font-size:18px\;"><span style="font-family:arial\;">Sit down with&nbsp\;California&#39\;s 50th Congressional District Congressman\, Darrell Issa.</span></span></span><br />\n<span style="font-size:18px\;"><span style="font-family:arial\;"><span style="line-height: 107%\;">Congressman Darrell Issa represents California&#39\;s 50th Congressional&nbsp\;District in the U.S. House of Representatives. The District encompasses the central and northeastern parts of San Diego County and a portion of Riverside County\, including Fallbrook\, San Marcos\, Valley Center\, Ramona\, Escondido\, Santee\, Lakeside\, El Cajon\, Temecula\, and the mountain and desert areas of the San Diego-Imperial County line.</span></span></span>
LOCATION:San Diego Regional East County Chamber of Commerce Business Resource Center 201 S. Magnolia Ave. El Cajon\, CA 92020
UID:e.895.14363
SEQUENCE:3
DTSTAMP:20260421T144100Z
URL:https://business.eastcountychamber.org/events/details/8-11-dine-dialogue-w-congressman-issa-14363
END:VEVENT

END:VCALENDAR
