BEGIN:VCALENDAR
VERSION:2.0
PRODID:-//ChamberMaster//Event Calendar 2.0//EN
METHOD:PUBLISH
X-PUBLISHED-TTL:P3D
REFRESH-INTERVAL:P3D
CALSCALE:GREGORIAN
BEGIN:VEVENT
DTSTART:20220812T163000Z
DTEND:20220812T180000Z
X-MICROSOFT-CDO-ALLDAYEVENT:FALSE
SUMMARY:8/12 Ribbon Cutting | Magers Money Management
DESCRIPTION:Celebrating one year in business!
X-ALT-DESC;FMTTYPE=text/html:<span style="font-size:18px\;"><span class="JsGRdQ" style="color: rgb(33\, 69\, 89)\; font-weight: 700\;">Celebrating one year in business!</span></span>
LOCATION:9949 Hawley Road El Cajon\, CA 920219
UID:e.895.14348
SEQUENCE:3
DTSTAMP:20260421T110747Z
URL:https://business.eastcountychamber.org/events/details/8-12-ribbon-cutting-magers-money-management-14348
END:VEVENT

END:VCALENDAR
