BEGIN:VCALENDAR
VERSION:2.0
PRODID:-//ChamberMaster//Event Calendar 2.0//EN
METHOD:PUBLISH
X-PUBLISHED-TTL:P3D
REFRESH-INTERVAL:P3D
CALSCALE:GREGORIAN
BEGIN:VEVENT
DTSTART:20260814T150000Z
DTEND:20260814T160000Z
X-MICROSOFT-CDO-ALLDAYEVENT:FALSE
SUMMARY:8/14 Chamber Coffee Connect - East County Art Association
DESCRIPTION:Join us at The Diver's Cup at the Gallery for our August Chamber Coffee Connect.  Located inside East County Art Association's Art Gallery on Main St. in the heart of downtown El Cajon.
X-ALT-DESC;FMTTYPE=text/html:<span style="font-size:18px\;">Join us at The Diver&#39\;s Cup at the Gallery for our August Chamber Coffee Connect.&nbsp\; Located inside East County Art Association&#39\;s Art Gallery on Main St. in the heart of downtown El Cajon.</span><br />\n&nbsp\;
LOCATION:The Diver's Cup at the Gallery 124 E Main St. El Cajon\, CA 92020
UID:e.895.22097
SEQUENCE:3
DTSTAMP:20260423T063046Z
URL:https://business.eastcountychamber.org/events/details/8-14-chamber-coffee-connect-east-county-art-association-22097
END:VEVENT

END:VCALENDAR
