BEGIN:VCALENDAR
VERSION:2.0
PRODID:-//ChamberMaster//Event Calendar 2.0//EN
METHOD:PUBLISH
X-PUBLISHED-TTL:P3D
REFRESH-INTERVAL:P3D
CALSCALE:GREGORIAN
BEGIN:VEVENT
DTSTART:20220816T180000Z
DTEND:20220816T200000Z
X-MICROSOFT-CDO-ALLDAYEVENT:FALSE
SUMMARY:8/16 CANCELED - VR Demo Day
DESCRIPTION:Join on us on August 16th for our forum-styled event where we will explore how we can come together to rethink Main Street. Our conversation will focus on deploying our new tools in a manner that represents our core values as a community. The topics will cover virtual reality\, augmented reality\, robotics\, AI\, and other emerging technologies around our new world of 5G.\n\nIt's a conversation that Main Street needs to start having! The event will be live in person\, on Zoom\, and presented at the San Diego Regional East County Chamber of Commerce VR World (VR world link). The chamber's VR World was created by RhinoXR.\n\nModerator: Todd Brinkman\, Virtual Reality for Main Street\n\nForum Panelists: Rick Wilson (San Diego Regional East County Chamber of Commerce) Aaron Brossoit\, Golden Shovel Agency and PlaceVR (works with over US 200 chambers and cities)\, and 2 to 4 other East County leaders. Check back often as the forum panelists will be updated.\n \nThe forum will support Project Piercing Glimpse. This East County project will help arriving tourists explore East County in Virtual Reality.
X-ALT-DESC;FMTTYPE=text/html:<span style="font-size:18px\;">Join on us on August 16th for our forum-styled event where we will explore how we can come together to rethink Main Street. Our conversation will focus on deploying our new tools in a manner that represents our core values as a community. The topics will cover virtual reality\, augmented reality\, robotics\, AI\, and other emerging technologies around our new world of 5G.<br />\nIt&#39\;s a conversation that Main Street needs to start having! The event will be live in person\, on Zoom\, and presented at the San Diego Regional East County Chamber of Commerce VR World (<a href="https://atlas.sansar.com/experiences/dnaelite-6543/chamber-of-commerce-east-san-deigo?fbclid=IwAR38wL3_Ada1o3dN5u9RJRa_eqI1CsEM12ikRIaXQocws_udUJV0caNTNDo">VR world link</a>). The chamber&rsquo\;s VR World was created by <a href="https://rhinoxrstudios.com/">RhinoXR.</a><br />\n<strong>Moderator:</strong> Todd Brinkman\, Virtual Reality for Main Street<br />\n<strong>Forum Panelists</strong>: Rick Wilson (San Diego Regional East County Chamber of Commerce) Aaron Brossoit\, Golden Shovel Agency and PlaceVR (works with over US 200 chambers and cities)\, and 2 to 4 other East County leaders. Check back often as the forum panelists will be updated.</span>\n<div style="text-align:justify\;">&nbsp\;</div>\n<span style="font-size:18px\;">The forum will support Project Piercing Glimpse. This East County project will help arriving tourists explore East County in Virtual Reality.</span>
LOCATION:The San Diego Regional East County Chamber of Commerce 201 S. Magnolia Ave. El Cajon\, CA 92020
UID:e.895.14351
SEQUENCE:3
DTSTAMP:20260421T105146Z
URL:https://business.eastcountychamber.org/events/details/8-16-canceled-vr-demo-day-14351
END:VEVENT

END:VCALENDAR
