BEGIN:VCALENDAR
VERSION:2.0
PRODID:-//ChamberMaster//Event Calendar 2.0//EN
METHOD:PUBLISH
X-PUBLISHED-TTL:P3D
REFRESH-INTERVAL:P3D
CALSCALE:GREGORIAN
BEGIN:VEVENT
DTSTART:20220821T200000Z
DTEND:20220822T000000Z
X-MICROSOFT-CDO-ALLDAYEVENT:FALSE
SUMMARY:8/21 Grillin' & Chillin' 110th Anniversary Celebration
DESCRIPTION:Join us poolside for an afternoon of fun in the sun with delicious food\, cold drinks\, and great company. Celebrate the Chamber's 110th Anniversary on the actual\, official\, date - August 21st. \n\nDance and sing along with Summer of Love!
X-ALT-DESC;FMTTYPE=text/html:<span style="font-size:18px\;">Join us poolside for an afternoon of fun in the sun with delicious food\, cold drinks\, and great company. Celebrate the Chamber&#39\;s 110th Anniversary on the actual\, official\, date - August 21st.&nbsp\;<br />\nDance and sing along with&nbsp\;<em>Summer of Love</em>!&nbsp\;</span>
LOCATION:Courtyard by Marriott El Cajon 141 N. Magnolia Ave. El Cajon\, CA 92020
UID:e.895.14118
SEQUENCE:3
DTSTAMP:20260421T143807Z
URL:https://business.eastcountychamber.org/events/details/8-21-grillin-chillin-110th-anniversary-celebration-14118
END:VEVENT

END:VCALENDAR
