BEGIN:VCALENDAR
VERSION:2.0
PRODID:-//ChamberMaster//Event Calendar 2.0//EN
METHOD:PUBLISH
X-PUBLISHED-TTL:P3D
REFRESH-INTERVAL:P3D
CALSCALE:GREGORIAN
BEGIN:VEVENT
DTSTART:20220916T150000Z
DTEND:20220916T160000Z
X-MICROSOFT-CDO-ALLDAYEVENT:FALSE
SUMMARY:9/16 Cafecito & Networking
DESCRIPTION:NEW LOCATION FOR SEPTEMBER!!!! We love spreading the love to our Chamber Member Businesses.\n\nJoin us at THE HAMLETT in Lemon Grove for our monthly morning meet-up in partnership with the San Diego County Imperial Valley Hispanic Chamber of Commerce.
X-ALT-DESC;FMTTYPE=text/html:<span style="font-size:18px\;">NEW LOCATION FOR SEPTEMBER!!!! We love spreading the love to our Chamber Member Businesses.<br />\nJoin us at THE HAMLETT in Lemon Grove for our monthly morning meet-up in partnership with the San Diego County Imperial Valley Hispanic Chamber of Commerce.</span>
LOCATION:The Hamlett 7801 Broadway Lemon Grove\, CA 91945
UID:e.895.14391
SEQUENCE:3
DTSTAMP:20260421T104402Z
URL:https://business.eastcountychamber.org/events/details/9-16-cafecito-networking-14391
END:VEVENT

END:VCALENDAR
