BEGIN:VCALENDAR
VERSION:2.0
PRODID:-//ChamberMaster//Event Calendar 2.0//EN
METHOD:PUBLISH
X-PUBLISHED-TTL:P3D
REFRESH-INTERVAL:P3D
CALSCALE:GREGORIAN
BEGIN:VEVENT
DTSTART:20220917T003000Z
DTEND:20220917T033000Z
X-MICROSOFT-CDO-ALLDAYEVENT:FALSE
SUMMARY:9/16 Politics in Paradise
DESCRIPTION:SPONSOR THIS EVENT!\n\nCANDIDATE FORM\n\nThe San Diego Regional East County Chamber of Commerce invites you to participate in the upcoming Politics in Paradise event on Friday\, September 16\, 2022. This biennial event will take place at the Water Conservation Garden at Cuyamaca College from 5:30pm-8:30pm. The evening provides an opportunity to share your platform and discuss topics with both Chamber members and non-members alike. You will be able to promote your candidacy\, solicit fund-raising\, give a one-minute speech\, and invite attendees to engage one-on-one Q&A throughout the event. As the respected voice of and advocate for improving business opportunities\, public policy and business education throughout San Diego County\; the San Diego Regional East County Chamber of Commerce looks forward to your participation. Please complete and return the attached form.
X-ALT-DESC;FMTTYPE=text/html:<span style="font-size:18px\;"><u><strong><span style="font-family:arial\;"><a href="https://chambermaster.blob.core.windows.net/userfiles/UserFiles/chambers/895/File/2022PoliticsinParadiseSponsorshipForm11.pdf">SPONSOR THIS EVENT!</a><br />\n<a href="https://chambermaster.blob.core.windows.net/userfiles/UserFiles/chambers/895/File/2022PIPCandidateForm.pdf">CANDIDATE FORM</a></span></strong></u><br />\nThe San Diego Regional East County Chamber of Commerce invites you to participate in the upcoming Politics in Paradise event on Friday\, September 16\, 2022. This biennial event will take place at the Water Conservation Garden at Cuyamaca College from 5:30pm-8:30pm. The evening provides an opportunity to share your platform and discuss topics with both Chamber members and non-members alike. You will be able to promote your candidacy\, solicit fund-raising\, give a one-minute speech\, and invite attendees to engage one-on-one Q&amp\;A throughout the event. As the respected voice of and advocate for improving business opportunities\, public policy and business education throughout San Diego County\; the San Diego Regional East County Chamber of Commerce looks forward to your participation. Please complete and return the attached form.</span><br />\n&nbsp\;
LOCATION:The Water Conservation Garden Cuyamaca College 12122 Cuyamaca College Dr. W El Cajon\, CA 92019
UID:e.895.14112
SEQUENCE:3
DTSTAMP:20260421T105900Z
URL:https://business.eastcountychamber.org/events/details/9-16-politics-in-paradise-14112
END:VEVENT

END:VCALENDAR
