BEGIN:VCALENDAR
VERSION:2.0
PRODID:-//ChamberMaster//Event Calendar 2.0//EN
METHOD:PUBLISH
X-PUBLISHED-TTL:P3D
REFRESH-INTERVAL:P3D
CALSCALE:GREGORIAN
BEGIN:VEVENT
DTSTART:20210902T190000Z
DTEND:20210902T203000Z
X-MICROSOFT-CDO-ALLDAYEVENT:FALSE
SUMMARY:9/2:Dine & Dialogue with the Honorable Mayor Vasquez of Lemon Grove
DESCRIPTION:
X-ALT-DESC;FMTTYPE=text/html:
LOCATION:The Chamber Business Resource Center - 201 S. Magnolia Ave. El Cajon\, CA 92020
UID:e.895.13621
SEQUENCE:3
DTSTAMP:20260423T041910Z
URL:https://business.eastcountychamber.org/events/details/9-2-dine-dialogue-with-the-honorable-mayor-vasquez-of-lemon-grove-13621
END:VEVENT

END:VCALENDAR
