BEGIN:VCALENDAR
VERSION:2.0
PRODID:-//ChamberMaster//Event Calendar 2.0//EN
METHOD:PUBLISH
X-PUBLISHED-TTL:P3D
REFRESH-INTERVAL:P3D
CALSCALE:GREGORIAN
BEGIN:VEVENT
DTSTART:20220923T163000Z
DTEND:20220923T180000Z
X-MICROSOFT-CDO-ALLDAYEVENT:FALSE
SUMMARY:9/23 Ribbon Cutting | New Horizon Counseling Center
DESCRIPTION:Celebrate Chamber Member Business: New Horizon Counseling Center on their grand re-opening and launch of new available services and resources!
X-ALT-DESC;FMTTYPE=text/html:<span style="font-size:18px\;">Celebrate Chamber Member Business: <em>New Horizon Counseling Center</em> on their grand re-opening and launch of new available services and resources!</span>
LOCATION:New Horizon Counseling Center 3130 Bonita Rd. Suite 202 Chula Vista\, CA 91910
UID:e.895.14389
SEQUENCE:3
DTSTAMP:20260421T111251Z
URL:https://business.eastcountychamber.org/events/details/9-23-ribbon-cutting-new-horizon-counseling-center-14389
END:VEVENT

END:VCALENDAR
