BEGIN:VCALENDAR
VERSION:2.0
PRODID:-//ChamberMaster//Event Calendar 2.0//EN
METHOD:PUBLISH
X-PUBLISHED-TTL:P3D
REFRESH-INTERVAL:P3D
CALSCALE:GREGORIAN
BEGIN:VEVENT
DTSTART:20220927T000000Z
DTEND:20220927T020000Z
X-MICROSOFT-CDO-ALLDAYEVENT:FALSE
SUMMARY:9/26 Business After Hours Mixer San Diego Eye Professionals
DESCRIPTION:San Diego Eye Professionals is hosting Christmas in September!!! Network after work and bring an unwrapped toy benefitting ECTLC.
X-ALT-DESC;FMTTYPE=text/html:<span style="font-size:20px\;">San Diego Eye Professionals is hosting&nbsp\;<span style="color:#FF0000\;"><em>Christmas in September!!!</em></span>&nbsp\;Network after work and bring an unwrapped toy benefitting ECTLC.</span>
LOCATION:San Diego Eye Professionals 5965 Severin Dr. La Mesa\, CA 91942
UID:e.895.14394
SEQUENCE:3
DTSTAMP:20260421T111541Z
URL:https://business.eastcountychamber.org/events/details/9-26-business-after-hours-mixer-san-diego-eye-professionals-14394
END:VEVENT

END:VCALENDAR
