BEGIN:VCALENDAR
VERSION:2.0
PRODID:-//ChamberMaster//Event Calendar 2.0//EN
METHOD:PUBLISH
X-PUBLISHED-TTL:P3D
REFRESH-INTERVAL:P3D
CALSCALE:GREGORIAN
BEGIN:VEVENT
DTSTART:20220930T003000Z
DTEND:20220930T023000Z
X-MICROSOFT-CDO-ALLDAYEVENT:FALSE
SUMMARY:9/29 Business After Hours Mixer | Grand Ole BBQ
DESCRIPTION:Join us along with the Alpine Chamber of Commerce\, McGovern Law Group\, and Magers Money Management for a Business After Hours event at fellow Chamber Member Business\, Grand Ole BBQ!
X-ALT-DESC;FMTTYPE=text/html:<span style="font-size:18px\;">Join us along with the Alpine Chamber of Commerce\, McGovern Law Group\, and Magers Money Management for a Business After Hours event at fellow Chamber Member Business\, Grand Ole BBQ!</span>
LOCATION:Grand Ole BBQ Flynn Springs 15505 Old Hwy 80 El Cajon\, CA 92021
UID:e.895.14396
SEQUENCE:3
DTSTAMP:20260421T111024Z
URL:https://business.eastcountychamber.org/events/details/9-29-business-after-hours-mixer-grand-ole-bbq-14396
END:VEVENT

END:VCALENDAR
