BEGIN:VCALENDAR
VERSION:2.0
PRODID:-//ChamberMaster//Event Calendar 2.0//EN
METHOD:PUBLISH
X-PUBLISHED-TTL:P3D
REFRESH-INTERVAL:P3D
CALSCALE:GREGORIAN
BEGIN:VEVENT
DTSTART:20220909T141500Z
DTEND:20220909T160000Z
X-MICROSOFT-CDO-ALLDAYEVENT:FALSE
SUMMARY:9/9 First Friday Breakfast - Foothills Christian Church
DESCRIPTION:It's that time of year again for our annual Buy 1 Bring 1 Membership special.  Chamber members\, register yourself and bring a prospective business guest for FREE!
X-ALT-DESC;FMTTYPE=text/html:<strong><span style="font-size:20px\;">It&#39\;s that time of year again for our annual Buy 1 Bring 1 Membership special.&nbsp\; Chamber members\, register yourself and bring a prospective business guest for FREE!</span></strong>
LOCATION:Foothills Christian Church 365 W. Bradley Ave. El Cajon\, CA 92020
UID:e.895.14370
SEQUENCE:3
DTSTAMP:20260421T073505Z
URL:https://business.eastcountychamber.org/events/details/9-9-first-friday-breakfast-foothills-christian-church-14370
END:VEVENT

END:VCALENDAR
