BEGIN:VCALENDAR
VERSION:2.0
PRODID:-//ChamberMaster//Event Calendar 2.0//EN
METHOD:PUBLISH
X-PUBLISHED-TTL:P3D
REFRESH-INTERVAL:P3D
CALSCALE:GREGORIAN
BEGIN:VEVENT
DTSTART:20260418T013000Z
DTEND:20260418T033000Z
X-MICROSOFT-CDO-ALLDAYEVENT:FALSE
SUMMARY:A Mystery Dinner Theater Show: The Conundrum on the Crackerjack Cruise by Nancy Bond
DESCRIPTION:
X-ALT-DESC;FMTTYPE=text/html:
LOCATION:The Circle Players Presents: The Conundrum on the Crackerjack Cruise by Nancy Bond A mystery dinner theater show Friday April 17\, 2026 at 6:30pm Saturday April 18\, 2026 1:00pm Sunday April 19\, 2026 at 6:30pm Set sail aboard the Grand Jubilation cruise ship bound for the Bahamas\, when sun and fun turns into mystery and intrigue. Participate in the ship's Game Night and compete against fellow passengers\, or root your team to victory. Then solve the whodunnit and win a prize! Performances at: Richardson Hall\, 551 Farragut Circle\, El Cajon For addition information: Call (619) 588-5348 or e-mail: thecircleplayers@gmail.com
UID:e.895.21989
SEQUENCE:3
DTSTAMP:20260421T112313Z
URL:https://business.eastcountychamber.org/events/details/a-mystery-dinner-theater-show-the-conundrum-on-the-crackerjack-cruise-by-nancy-bond-21989
END:VEVENT

END:VCALENDAR
