BEGIN:VCALENDAR
VERSION:2.0
PRODID:-//ChamberMaster//Event Calendar 2.0//EN
METHOD:PUBLISH
X-PUBLISHED-TTL:P3D
REFRESH-INTERVAL:P3D
CALSCALE:GREGORIAN
BEGIN:VEVENT
DTSTART:20201215T180000Z
DTEND:20201216T073000Z
X-MICROSOFT-CDO-ALLDAYEVENT:FALSE
SUMMARY:ACDBE Triennial Goal Methodology FFY 2021-2023
DESCRIPTION:In accordance with 49 CFR Part 26.45(g)\, the San Diego International Airport (SAN)\, a recipient of U.S. Department of Transportation (DOT) assistance\, announces a proposed Federal Aviation Administration (FAA) Airport Concessions Disadvantaged Business Enterprise (ACDBE) goals for Non-Car Rental and Car Rental Concessions.
X-ALT-DESC;FMTTYPE=text/html:In accordance with 49 CFR Part 26.45(g)\, the San Diego International Airport (SAN)\, a recipient of U.S. Department of Transportation (DOT) assistance\, announces a proposed Federal Aviation Administration (FAA) Airport Concessions Disadvantaged Business Enterprise (ACDBE) goals for Non-Car Rental and Car Rental Concessions.
LOCATION:Registration: SDCRAA ACDBE Triennial Goal Webinar.
UID:e.895.10163
SEQUENCE:3
DTSTAMP:20260424T054354Z
URL:https://business.eastcountychamber.org/events/details/acdbe-triennial-goal-methodology-ffy-2021-2023-10163
END:VEVENT

END:VCALENDAR
