BEGIN:VCALENDAR
VERSION:2.0
PRODID:-//ChamberMaster//Event Calendar 2.0//EN
METHOD:PUBLISH
X-PUBLISHED-TTL:P3D
REFRESH-INTERVAL:P3D
CALSCALE:GREGORIAN
BEGIN:VEVENT
DTSTART:20260314T160000Z
DTEND:20260314T200000Z
X-MICROSOFT-CDO-ALLDAYEVENT:FALSE
SUMMARY:BLISS Zumba Heart-A-Thon Fundraiser
DESCRIPTION:Zumba for a cause! Join our 3rd Annual BLISS Zumba Heart-a-thon event to fund FREE in-home care for low-income seniors in mobile home parks & subsidized housing.\n\n\n\nThis in-person\, family-friendly event is perfect for enthusiasts of all levels. Together\, let's raise $30\,000 to provide 600 hours of direct care for a heartwarming cause!\n\n\n\nProgram:\n\n09:00 AM - 10:30 PM - Registration and Networking\n\n10:30 AM - 12:00 PM - Zumba Session\n\n12:00 PM - 01:00 PM - Networking/closing\n\nProceeds directly fund free non-medical in-home care services\, helping seniors live independently\, safely\, and with dignity in their own homes.\n\nVendor and Sponsorship opportunities are also available.\n\nTo learn more\, visit www.blisscarefoundation.org/zumba.\n\n \n\nDance for health\, dance for hearts\, dance for Seniors!
X-ALT-DESC;FMTTYPE=text/html:<div>\n<div>Zumba for a cause! Join our 3rd Annual BLISS Zumba Heart-a-thon event to fund FREE in-home care for low-income seniors in mobile home parks &amp\; subsidized housing.</div>\n</div>\n\n<div>\n<p>This in-person\, family-friendly event is perfect for enthusiasts of all levels. Together\, let&#39\;s raise $30\,000 to provide 600 hours of direct care for a heartwarming cause!<br />\n<br />\nProgram:</p>\n\n<p>09:00 AM - 10:30 PM - Registration and Networking</p>\n\n<p>10:30 AM - 12:00 PM - Zumba Session</p>\n\n<p>12:00 PM - 01:00 PM - Networking/closing</p>\n\n<p>Proceeds directly fund free non-medical in-home care services\, helping seniors live independently\, safely\, and with dignity in their own homes.</p>\n\n<p>Vendor and Sponsorship opportunities are also available.</p>\n\n<p>To learn more\, visit <a href="http://www.blisscarefoundation.org/zumba">www.blisscarefoundation.org/zumba</a>.<br />\n&nbsp\;</p>\n\n<p>Dance for health\, dance for hearts\, dance for Seniors!</p>\n</div>\n
LOCATION:Ronald Reagan Community Center\, 195 E Douglas Ave\, El Cajon\, CA 92020
UID:e.895.21881
SEQUENCE:3
DTSTAMP:20260424T022400Z
URL:https://business.eastcountychamber.org/events/details/bliss-zumba-heart-a-thon-fundraiser-03-14-2026-21881
END:VEVENT

END:VCALENDAR
