BEGIN:VCALENDAR
VERSION:2.0
PRODID:-//ChamberMaster//Event Calendar 2.0//EN
METHOD:PUBLISH
X-PUBLISHED-TTL:P3D
REFRESH-INTERVAL:P3D
CALSCALE:GREGORIAN
BEGIN:VEVENT
DTSTART:20211210T163000Z
DTEND:20211210T230000Z
X-MICROSOFT-CDO-ALLDAYEVENT:FALSE
SUMMARY:Board of Directors Board Retreat
DESCRIPTION:
X-ALT-DESC;FMTTYPE=text/html:
LOCATION:Singing Hills Golf Resort 3007 Dehesa Rd. El Cajon\, CA 92019
UID:e.895.13427
SEQUENCE:3
DTSTAMP:20260422T170043Z
URL:https://business.eastcountychamber.org/events/details/board-of-directors-board-retreat-13427
END:VEVENT

END:VCALENDAR
