BEGIN:VCALENDAR
VERSION:2.0
PRODID:-//ChamberMaster//Event Calendar 2.0//EN
METHOD:PUBLISH
X-PUBLISHED-TTL:P3D
REFRESH-INTERVAL:P3D
CALSCALE:GREGORIAN
BEGIN:VEVENT
DTSTART:20200808T160000Z
DTEND:20200808T210000Z
X-MICROSOFT-CDO-ALLDAYEVENT:FALSE
SUMMARY:Broken Yolks for Car Show Folks
DESCRIPTION:
X-ALT-DESC;FMTTYPE=text/html:
LOCATION:
UID:e.895.10067
SEQUENCE:3
DTSTAMP:20260424T141844Z
URL:https://business.eastcountychamber.org/events/details/broken-yolks-for-car-show-folks-10067
END:VEVENT

END:VCALENDAR
