BEGIN:VCALENDAR
VERSION:2.0
PRODID:-//ChamberMaster//Event Calendar 2.0//EN
METHOD:PUBLISH
X-PUBLISHED-TTL:P3D
REFRESH-INTERVAL:P3D
CALSCALE:GREGORIAN
BEGIN:VEVENT
DTSTART:20200806T170000Z
DTEND:20200806T190000Z
X-MICROSOFT-CDO-ALLDAYEVENT:FALSE
SUMMARY:Building Customer-centered Solutions to COVID Reqs. for Small Businesses
DESCRIPTION:This is an interactive\, creative brainstorming workshop for small businesses focused on transforming COVID regs. into a BENEFIT to the customer. \n\n\n\nAs we progress into this next normal\, it is clear that:\n\n1. Businesses are finding ways to adapt\, but CREATIVITY IS NEEDED.\n\n2. Changing attitudes and new requirements are HERE TO STAY FOR A WHILE.\n\n3. Customers\, employees\, and business owners are subjected to new obligations daily\, WHICH ARE COMPROMISING so many aspects of the experience they want to offer.\n\n\n\nIt's time now to collaborate on creative ways to bring connection and joy back to our interactions! Together we will work on ways to have our customers smiling again\, while still following protocols.\n\n\n\nThis will be a 1 1/2 hour intense\, ideation workshop to spark fresh ideas and learn from each other.
X-ALT-DESC;FMTTYPE=text/html:<div class="controls" style="box-sizing: border-box\; color: rgb(35\, 35\, 51)\; font-size: 14px\; font-variant-numeric: normal\; font-variant-east-asian: normal\; margin-left: 100px\;">This is an interactive\, creative brainstorming workshop for small businesses focused on transforming COVID regs. into a BENEFIT to the customer.&nbsp\;<br />\n<br />\n<strong><span style="color:#7030A0\;"><span style="font-family:calibri\,sans-serif\;"><span style="font-size:11.0pt\;">As we progress into this next normal\, it is clear that:</span></span></span></strong><br />\n<span style="font-family:calibri\,sans-serif\;"><span style="font-size:11.0pt\;">1. Businesses are finding ways to adapt\, but CREATIVITY IS NEEDED.<br />\n2. Changing attitudes and new requirements are HERE TO STAY FOR A WHILE.<br />\n3. Customers\, employees\, and business owners are subjected to new obligations daily\, WHICH ARE COMPROMISING so many aspects of the experience they want to offer.<br />\n<br />\nIt&#39\;s time now to collaborate on creative ways to bring connection and joy back to our interactions! Together we will work on ways to have our customers smiling again\, while still following protocols.<br />\n<br />\nThis will be a 1 1/2 hour intense\, ideation workshop to spark fresh ideas and learn from each other.</span></span><br />\n<br />\n&nbsp\;</div>\n
LOCATION:REGISTER NOW: https://zoom.us/meeting/register/tJMld-yrqzojHtT0B0O4dpKvtEmcrqolhVnp
UID:e.895.10061
SEQUENCE:3
DTSTAMP:20260424T142054Z
URL:https://business.eastcountychamber.org/events/details/building-customer-centered-solutions-to-covid-reqs-for-small-businesses-10061
END:VEVENT

END:VCALENDAR
