BEGIN:VCALENDAR
VERSION:2.0
PRODID:-//ChamberMaster//Event Calendar 2.0//EN
METHOD:PUBLISH
X-PUBLISHED-TTL:P3D
REFRESH-INTERVAL:P3D
CALSCALE:GREGORIAN
BEGIN:VEVENT
DTSTART:20230322T163000Z
DTEND:20230322T175000Z
X-MICROSOFT-CDO-ALLDAYEVENT:FALSE
SUMMARY:Business Mastermind Event
DESCRIPTION:Business Owners/CEOs and Senior Managers\n\nA Business Mastermind group with Proven Results - Based on 32 years of Success in San Diego\n\nCome brainstorm with other business principals and bring your business/organization to new levels.\n\n\n\nWalk in with questions and issues. Walk out with solutions.  (This is not a "leads" group.)\n\n\n\nBrainstorm with an insightful and diverse group of small business owners who can share knowledge and expertise to help you overcome the daily trials and tribulations of managing a business in today's world.  Your first 2 meetings are complimentary.  After that we can talk about membership.  Most members remain active for 3-10 years\, some longer.\n\n\n\nEach week includes:\n\nA business discussion topic or the monthly planning session\n\nEvery member gets to brainstorm a challenge or question every week\n\nYou pick a committed action step for the week to move your business forward\n\nTwo follow-up phone calls to ensure you reach your weekly goal
X-ALT-DESC;FMTTYPE=text/html:Business Owners/CEOs and Senior Managers<br />\nA Business Mastermind group with Proven Results - Based on 32 years of Success in San Diego<br />\nCome brainstorm with other business principals and bring your business/organization to new levels.<br />\n<br />\nWalk in with questions and issues. Walk out with solutions.&nbsp\; (This is not a &quot\;leads&quot\; group.)<br />\n<br />\nBrainstorm with an insightful and diverse group of small business owners who can share knowledge and expertise to help you overcome the daily trials and tribulations of managing a business in today&#39\;s world.&nbsp\; Your first 2 meetings are complimentary.&nbsp\; After that we can talk about membership.&nbsp\; Most members remain active for 3-10 years\, some longer.<br />\n<br />\nEach week includes:<br />\nA business discussion topic or the monthly planning session<br />\nEvery member gets to brainstorm a challenge or question every week<br />\nYou pick a committed action step for the week to move your business forward<br />\nTwo follow-up phone calls to ensure you reach your weekly goal
LOCATION:We're on ZOOM (like everyone else). https://zoom.us/j/6194540082?pwd=VHRFVXJ3S0ZOcFFnSWVOZjNSVW9hUT09
UID:e.895.14622
SEQUENCE:3
DTSTAMP:20260420T162231Z
URL:https://business.eastcountychamber.org/events/details/business-mastermind-event-14622
END:VEVENT

END:VCALENDAR
