BEGIN:VCALENDAR
VERSION:2.0
PRODID:-//ChamberMaster//Event Calendar 2.0//EN
METHOD:PUBLISH
X-PUBLISHED-TTL:P3D
REFRESH-INTERVAL:P3D
CALSCALE:GREGORIAN
BEGIN:VEVENT
DTSTART:20210317T190000Z
DTEND:20210317T194500Z
X-MICROSOFT-CDO-ALLDAYEVENT:FALSE
SUMMARY:Cal Coast Financial Wellness Workshop
DESCRIPTION:Join our webinar to learn more about today's markets in historical context and perspective\, how our emotions affect decision making\, and three strategies to help live with market volatility.
X-ALT-DESC;FMTTYPE=text/html:<span style="color: rgb(51\, 51\, 51)\; font-family: lato-regular\, HelveticaNeueW01-55Roma\, &quot\;Helvetica Neue&quot\;\, Helvetica\, Arial\, sans-serif\; font-size: 14px\; white-space: pre-wrap\; background-color: rgb(255\, 255\, 255)\;">Join our webinar to learn more about today&#39\;s markets in historical context and perspective\, how our emotions affect decision making\, and three strategies to help live with market volatility.</span>
LOCATION:Please register here.
UID:e.895.13431
SEQUENCE:3
DTSTAMP:20260424T011320Z
URL:https://business.eastcountychamber.org/events/details/cal-coast-financial-wellness-workshop-13431
END:VEVENT

END:VCALENDAR
