BEGIN:VCALENDAR
VERSION:2.0
PRODID:-//ChamberMaster//Event Calendar 2.0//EN
METHOD:PUBLISH
X-PUBLISHED-TTL:P3D
REFRESH-INTERVAL:P3D
CALSCALE:GREGORIAN
BEGIN:VEVENT
DTSTART:20201006T230000Z
DTEND:20201007T000000Z
X-MICROSOFT-CDO-ALLDAYEVENT:FALSE
SUMMARY:Cardiovascular Institute of San Diego Ribbon Cutting
DESCRIPTION:Ribbon Cutting for Cardiovascular Institute of San Diego
X-ALT-DESC;FMTTYPE=text/html:Ribbon Cutting for Cardiovascular Institute of San Diego&nbsp\;
LOCATION:1625 E Main St. Suite 201 El Cajon\, California 92021
UID:e.895.10095
SEQUENCE:3
DTSTAMP:20260424T105400Z
URL:https://business.eastcountychamber.org/events/details/cardiovascular-institute-of-san-diego-ribbon-cutting-10095
END:VEVENT

END:VCALENDAR
