BEGIN:VCALENDAR
VERSION:2.0
PRODID:-//ChamberMaster//Event Calendar 2.0//EN
METHOD:PUBLISH
X-PUBLISHED-TTL:P3D
REFRESH-INTERVAL:P3D
CALSCALE:GREGORIAN
BEGIN:VEVENT
DTSTART:20210728T190000Z
DTEND:20210728T210000Z
X-MICROSOFT-CDO-ALLDAYEVENT:FALSE
SUMMARY:Chairman's Club Appreciation
DESCRIPTION:Come Celebrate with the San Diego Regional East County Chamber of Commerce each month as we recognize our Chairman's Club Level Members.  All Members and Prospective Members are invited to this Free (with registration) Lunch Event Sponsored by MI-BOX Moving & Mobile Storage.
X-ALT-DESC;FMTTYPE=text/html:Come Celebrate with the San Diego Regional East County Chamber of Commerce each month as we recognize our Chairman&rsquo\;s Club Level Members.&nbsp\; All Members and Prospective Members are invited to this Free (with registration) Lunch Event Sponsored by MI-BOX Moving &amp\; Mobile Storage.
LOCATION:201 S. Magnolia Ave\, El Cajon\, CA 92020 (Chamber Office)
UID:e.895.13597
SEQUENCE:3
DTSTAMP:20260423T152539Z
URL:https://business.eastcountychamber.org/events/details/chairman-s-club-appreciation-13597
END:VEVENT

END:VCALENDAR
