BEGIN:VCALENDAR
VERSION:2.0
PRODID:-//ChamberMaster//Event Calendar 2.0//EN
METHOD:PUBLISH
X-PUBLISHED-TTL:P3D
REFRESH-INTERVAL:P3D
CALSCALE:GREGORIAN
BEGIN:VEVENT
DTSTART:20200813T143000Z
DTEND:20200813T160000Z
X-MICROSOFT-CDO-ALLDAYEVENT:FALSE
SUMMARY:Chamber Innovators
DESCRIPTION:Innovative Programming
X-ALT-DESC;FMTTYPE=text/html:Innovative Programming&nbsp\;
LOCATION:Via ZOOM ** Please Register First **
UID:e.895.9921
SEQUENCE:3
DTSTAMP:20260424T141645Z
URL:https://business.eastcountychamber.org/events/details/chamber-innovators-08-13-2020-9921
END:VEVENT

END:VCALENDAR
