BEGIN:VCALENDAR
VERSION:2.0
PRODID:-//ChamberMaster//Event Calendar 2.0//EN
METHOD:PUBLISH
X-PUBLISHED-TTL:P3D
REFRESH-INTERVAL:P3D
CALSCALE:GREGORIAN
BEGIN:VEVENT
DTSTART:20200917T143000Z
DTEND:20200917T160000Z
X-MICROSOFT-CDO-ALLDAYEVENT:FALSE
SUMMARY:Chamber Innovators
DESCRIPTION:Innovative Programming \n\nSharp's Patient Experience Center at Sharp Grossmont Hospital with the Sharp Grossmont Team.
X-ALT-DESC;FMTTYPE=text/html:Innovative Programming&nbsp\;<br />\n<span style="font-family:calibri\,sans-serif\;"><span style="font-size:11.0pt\;">Sharp&#39\;s Patient Experience Center at Sharp Grossmont Hospital with the Sharp Grossmont Team.</span></span>
LOCATION:Via ZOOM Please register to get access.
UID:e.895.10078
SEQUENCE:3
DTSTAMP:20260424T104852Z
URL:https://business.eastcountychamber.org/events/details/chamber-innovators-09-17-2020-10078
END:VEVENT

END:VCALENDAR
