BEGIN:VCALENDAR
VERSION:2.0
PRODID:-//ChamberMaster//Event Calendar 2.0//EN
METHOD:PUBLISH
X-PUBLISHED-TTL:P3D
REFRESH-INTERVAL:P3D
CALSCALE:GREGORIAN
BEGIN:VEVENT
DTSTART:20210715T183000Z
DTEND:20210715T200000Z
X-MICROSOFT-CDO-ALLDAYEVENT:FALSE
SUMMARY:Chamber Innovators
DESCRIPTION:San Diego Chamber's are committed to helping your business lead from the of technology. \n\n\n\nChamber Innovators Presents\n\n	Reinventing Senior Living\n	Sanjeev Shetty\, Chief Global Strategy and Innovation Officer\n\nPresentation Topics\n\n\n	Reinventing Senior Living\n	Personalized Robots for Seniors and Voice Technology\n	Learn More at connectedliving.co
X-ALT-DESC;FMTTYPE=text/html:San Diego Chamber&#39\;s are committed to helping your business lead from the of technology.&nbsp\;<br />\n<br />\n<strong>Chamber Innovators Presents</strong>\n<ul>\n	<li>Reinventing Senior Living</li>\n	<li>Sanjeev Shetty\, Chief Global Strategy and Innovation&nbsp\;Officer</li>\n</ul>\n<strong>Presentation Topics</strong>\n\n<ul>\n	<li>Reinventing Senior Living</li>\n	<li>Personalized Robots for Seniors and Voice Technology</li>\n	<li>Learn More at&nbsp\;<a href="http://connectedliving.com">connectedliving.co</a></li>\n</ul>\n
LOCATION:Zoom link provided upon registration.
UID:e.895.13598
SEQUENCE:3
DTSTAMP:20260423T113855Z
URL:https://business.eastcountychamber.org/events/details/chamber-innovators-13598
END:VEVENT

END:VCALENDAR
