BEGIN:VCALENDAR
VERSION:2.0
PRODID:-//ChamberMaster//Event Calendar 2.0//EN
METHOD:PUBLISH
X-PUBLISHED-TTL:P3D
REFRESH-INTERVAL:P3D
CALSCALE:GREGORIAN
BEGIN:VEVENT
DTSTART:20210716T003000Z
DTEND:20210716T020000Z
X-MICROSOFT-CDO-ALLDAYEVENT:FALSE
SUMMARY:Chamber Mixer Presented by Pure Light Cleaning & Salon Thrive
DESCRIPTION:Join us on July 15th at 5:30pm for an After Hours Mixer at the Pure Light Cleaning's Business Office located at 1444 Pioneer Way #10 El Cajon 92020. Hosted food and beverages provided by Pure Light Cleaning and Salon Thrive. Come learn more about Youth Venture and their upcoming golf tournament in October! Must Register to attend!
X-ALT-DESC;FMTTYPE=text/html:<div>&nbsp\;</div>\n<strong><span style="color: rgb(5\, 5\, 5)\; font-family: &quot\;Segoe UI Historic&quot\;\, &quot\;Segoe UI&quot\;\, Helvetica\, Arial\, sans-serif\; font-size: 15px\;">Join us on July 15th at 5:30pm for an After Hours Mixer at the Pure Light Cleaning&#39\;s Business Office located at 1444 Pioneer Way #10 El Cajon 92020. Hosted food and beverages provided by Pure Light Cleaning and Salon Thrive. Come learn more about Youth Venture and their upcoming golf tournament in October! Must Register to attend!</span></strong>
LOCATION:Pure Light Cleaning Business Office 1444 Pioneer Way\, El Cajon\, CA 92020-1628\, United States
UID:e.895.13596
SEQUENCE:3
DTSTAMP:20260423T111018Z
URL:https://business.eastcountychamber.org/events/details/chamber-mixer-presented-by-pure-light-cleaning-salon-thrive-13596
END:VEVENT

END:VCALENDAR
