BEGIN:VCALENDAR
VERSION:2.0
PRODID:-//ChamberMaster//Event Calendar 2.0//EN
METHOD:PUBLISH
X-PUBLISHED-TTL:P3D
REFRESH-INTERVAL:P3D
CALSCALE:GREGORIAN
BEGIN:VEVENT
DTSTART:20210729T000000Z
DTEND:20210729T020000Z
X-MICROSOFT-CDO-ALLDAYEVENT:FALSE
SUMMARY:Christmas in July Mixer with San Diego Eye Professionals
DESCRIPTION:Join us for Dancing\, Drinks\, Food\, and Live Demonstrations with Dr. Sally Lee. Please bring a food item or any item to contribute to the mixer!\n\n\n\nThis event is FREE upon RSVP with Dr. Lee.\n\n\n\nRSVP's up until the first 200.\n\n\n\nRSVP @ sandiegoeyeprofessionals@gmail.com
X-ALT-DESC;FMTTYPE=text/html:<strong>Join us for Dancing\, Drinks\, Food\, and Live Demonstrations with Dr. Sally Lee. Please bring a food item or any item to contribute to the mixer!<br />\n<br />\nThis event is FREE upon RSVP with Dr. Lee.<br />\n<br />\nRSVP&#39\;s up until the first 200.<br />\n<br />\nRSVP @ sandiegoeyeprofessionals@gmail.com</strong>
LOCATION:5965 Severin Dr.\, La Mesa
UID:e.895.13600
SEQUENCE:3
DTSTAMP:20260423T160150Z
URL:https://business.eastcountychamber.org/events/details/christmas-in-july-mixer-with-san-diego-eye-professionals-13600
END:VEVENT

END:VCALENDAR
