BEGIN:VCALENDAR
VERSION:2.0
PRODID:-//ChamberMaster//Event Calendar 2.0//EN
METHOD:PUBLISH
X-PUBLISHED-TTL:P3D
REFRESH-INTERVAL:P3D
CALSCALE:GREGORIAN
BEGIN:VEVENT
DTSTART:20260320T160000Z
DTEND:20260320T173000Z
X-MICROSOFT-CDO-ALLDAYEVENT:FALSE
SUMMARY:Coffee Seminar with Edward Jones - Outsmarting the Scammers
DESCRIPTION:
X-ALT-DESC;FMTTYPE=text/html:
LOCATION:
UID:e.895.21988
SEQUENCE:3
DTSTAMP:20260424T010722Z
URL:https://business.eastcountychamber.org/events/details/coffee-seminar-with-edward-jones-outsmarting-the-scammers-21988
END:VEVENT

END:VCALENDAR
