BEGIN:VCALENDAR
VERSION:2.0
PRODID:-//ChamberMaster//Event Calendar 2.0//EN
METHOD:PUBLISH
X-PUBLISHED-TTL:P3D
REFRESH-INTERVAL:P3D
CALSCALE:GREGORIAN
BEGIN:VEVENT
DTSTART:20210722T190000Z
DTEND:20210722T203000Z
X-MICROSOFT-CDO-ALLDAYEVENT:FALSE
SUMMARY:Dine & Dialogue with County Supervisor Joel Anderson
DESCRIPTION:
X-ALT-DESC;FMTTYPE=text/html:
LOCATION:The Chamber Business Resource Center - 201 S. Magnolia Ave. El Cajon\, CA 92020
UID:e.895.13592
SEQUENCE:3
DTSTAMP:20260423T110748Z
URL:https://business.eastcountychamber.org/events/details/dine-dialogue-with-county-supervisor-joel-anderson-13592
END:VEVENT

END:VCALENDAR
