BEGIN:VCALENDAR
VERSION:2.0
PRODID:-//ChamberMaster//Event Calendar 2.0//EN
METHOD:PUBLISH
X-PUBLISHED-TTL:P3D
REFRESH-INTERVAL:P3D
CALSCALE:GREGORIAN
BEGIN:VEVENT
DTSTART:20210316T230000Z
DTEND:20210317T000000Z
X-MICROSOFT-CDO-ALLDAYEVENT:FALSE
SUMMARY:Discover Your Health Career This Year
DESCRIPTION:We invited local colleges\, educators\, and job training centers to share their knowledge of obtaining a degree\, advancing your nursing career\, and accelerated training that leads directly to employment. Discover paths to healthcare from East County experts!
X-ALT-DESC;FMTTYPE=text/html:<span style="color: rgb(85\, 85\, 85)\; font-family: &quot\;helvetica neue&quot\;\, helvetica\, arial\, verdana\, sans-serif\; font-size: 18px\;">We invited local colleges\, educators\, and job training centers to share their knowledge of obtaining a degree\, advancing your nursing career\, and accelerated training that leads directly to employment. Discover paths to healthcare from East County experts!&nbsp\;</span>
LOCATION:The link to register is https://www.grossmonthealthcare.org/event/discover-your-health-career-this-year/
UID:e.895.13437
SEQUENCE:3
DTSTAMP:20260424T011547Z
URL:https://business.eastcountychamber.org/events/details/discover-your-health-career-this-year-13437
END:VEVENT

END:VCALENDAR
