BEGIN:VCALENDAR
VERSION:2.0
PRODID:-//ChamberMaster//Event Calendar 2.0//EN
METHOD:PUBLISH
X-PUBLISHED-TTL:P3D
REFRESH-INTERVAL:P3D
CALSCALE:GREGORIAN
BEGIN:VEVENT
DTSTART:20210424T153000Z
DTEND:20210424T170000Z
X-MICROSOFT-CDO-ALLDAYEVENT:FALSE
SUMMARY:ECTLC Ground Breaking
DESCRIPTION:Please join me for the Groundbreaking and Trench-to-Pour in 24 on Saturday\, April\n\n24\, 2021\, from 8:30 a.m. to 10:00 a.m. Thanks to the generous support of donors\,\n\nlarge and small\, and many members of the building community\, we will start\n\nconstruction on two new buildings. A special thank you to the many\n\nhard-working tradesmen donating their time to make a difference and build hope\n\nfor the homeless. THE ENTIRE PROJECT IS FINANCED WITH PRIVATE DONATIONS.\n\nThe dormitories will house over 100 men and women\, allowing us to open up\n\n40 more rooms for homeless families with children. The number of kids\n\nliving at ECTLC will grow from 180 to 250.
X-ALT-DESC;FMTTYPE=text/html:Please join me for the Groundbreaking and Trench-to-Pour in 24 on Saturday\, April<br />\n24\, 2021\, from 8:30 a.m. to 10:00 a.m. Thanks to the generous support of donors\,<br />\nlarge and small\, and many members of the building community\, we will start<br />\nconstruction on two new buildings. A special thank you to the many<br />\nhard-working tradesmen donating their time to make a difference and build hope<br />\nfor the homeless. THE ENTIRE PROJECT IS FINANCED WITH PRIVATE DONATIONS.<br />\nThe dormitories will house over 100 men and women\, allowing us to open up<br />\n40 more rooms for homeless families with children. The number of kids<br />\nliving at ECTLC will grow from 180 to 250.
LOCATION:East County Transitional Living Center 1527 East Main Street El Cajon\, CA 92021 SEATING IS LIMITED RSVP by Thursday\, April 22\, 2021 RSVP Here Please wear a mask\, and social distancing will be observed
UID:e.895.13575
SEQUENCE:3
DTSTAMP:20260423T220916Z
URL:https://business.eastcountychamber.org/events/details/ectlc-ground-breaking-13575
END:VEVENT

END:VCALENDAR
