BEGIN:VCALENDAR
VERSION:2.0
PRODID:-//ChamberMaster//Event Calendar 2.0//EN
METHOD:PUBLISH
X-PUBLISHED-TTL:P3D
REFRESH-INTERVAL:P3D
CALSCALE:GREGORIAN
BEGIN:VEVENT
DTSTART:20100605T163000Z
DTEND:20100606T003000Z
X-MICROSOFT-CDO-ALLDAYEVENT:FALSE
SUMMARY:El Cajon's BMW South County Release Party
DESCRIPTION:Join BMW South County in El Cajon for a release party introducing the all new re-designed 5 Series which is receiving praises from Road & Track\, Car & Driver & other auto experts plus competitor vehicles.\n\n\n    Call ahead at (619) 248-3955 & ask for Anne Patou\, New & Used Client Advisor.
X-ALT-DESC;FMTTYPE=text/html:<p align="center">\n    <font face="Arial Black"><em>Join <font color="red">BMW South County in El Cajon</font> for a release party introducing the all new re-designed 5 Series which is receiving praises from Road &amp\; Track\, Car &amp\; Driver &amp\; other auto experts plus competitor vehicles.</em></font>\n</p>\n<p align="center">\n    <font size="2" face="Arial Black">Call ahead at (619) 248-3955 &amp\; ask for Anne Patou\, New &amp\; Used Client Advisor.</font>\n</p>
LOCATION:
UID:e.895.381
SEQUENCE:3
DTSTAMP:20260422T232551Z
URL:https://business.eastcountychamber.org/events/details/el-cajon-s-bmw-south-county-release-party-06-05-2010-381
END:VEVENT

END:VCALENDAR
