BEGIN:VCALENDAR
VERSION:2.0
PRODID:-//ChamberMaster//Event Calendar 2.0//EN
METHOD:PUBLISH
X-PUBLISHED-TTL:P3D
REFRESH-INTERVAL:P3D
CALSCALE:GREGORIAN
BEGIN:VEVENT
DTSTART;VALUE=DATE:20110306
DTEND;VALUE=DATE:20110307
TRANSP:TRANSPARENT
X-MICROSOFT-CDO-ALLDAYEVENT:TRUE
SUMMARY:Event at Act II Boutique Womens's Resale Clothing
DESCRIPTION:20% OFF ALL St. Patti Day Items!!\n\nSt. Patti?s Day is COMING!!!\n\nGet YOUR Party gear here at ACTII!!!!\n\nBeads\, glasses\, scarves\, hats and MORE hats!!\n\nAll kinds of hats and blinking headbands with shamrocks!!!\n\nHURRY to get the BEST selection!!!
X-ALT-DESC;FMTTYPE=text/html:20% OFF ALL St. Patti Day Items!!\n<br>St. Patti?s Day is COMING!!!\n<br>Get YOUR Party gear here at ACTII!!!!\n<br>Beads\, glasses\, scarves\, hats and MORE hats!!\n<br>All kinds of hats and blinking headbands with shamrocks!!!\n<br>HURRY to get the BEST selection!!!
LOCATION:Both ACTII Locations
UID:e.895.507
SEQUENCE:3
DTSTAMP:20260421T211827Z
URL:https://business.eastcountychamber.org/events/details/event-at-act-ii-boutique-womens-s-resale-clothing-03-06-2011-507
END:VEVENT

END:VCALENDAR
