BEGIN:VCALENDAR
VERSION:2.0
PRODID:-//ChamberMaster//Event Calendar 2.0//EN
METHOD:PUBLISH
X-PUBLISHED-TTL:P3D
REFRESH-INTERVAL:P3D
CALSCALE:GREGORIAN
BEGIN:VEVENT
DTSTART:20110317T183000Z
DTEND:20110317T200000Z
X-MICROSOFT-CDO-ALLDAYEVENT:FALSE
SUMMARY:Event at East County Personnel Association
DESCRIPTION:Monthly luncheon at the Brigantine in La Mesa.  11:30 am registration\, 12 noon lunch and speaker\, meeting concludes 1 PM.   This months speaker is Attorney Stacy James from the San Diego office of Little Mendelson.  Speaker topic:  Employee absence issues including FMLA\, CFRA and PDL.  Don't miss this opportunity to review your policies and legal obligations in regards to employee leaves.
X-ALT-DESC;FMTTYPE=text/html:Monthly luncheon at the Brigantine in La Mesa.  11:30 am registration\, 12 noon lunch and speaker\, meeting concludes 1 PM.   This months speaker is Attorney Stacy James from the San Diego office of Little Mendelson.  Speaker topic:  Employee absence issues including FMLA\, CFRA and PDL.  Don't miss this opportunity to review your policies and legal obligations in regards to employee leaves. 
LOCATION:La Mesa Brigantine
UID:e.895.499
SEQUENCE:3
DTSTAMP:20260421T211828Z
URL:https://business.eastcountychamber.org/events/details/event-at-east-county-personnel-association-03-17-2011-499
END:VEVENT

END:VCALENDAR
