BEGIN:VCALENDAR
VERSION:2.0
PRODID:-//ChamberMaster//Event Calendar 2.0//EN
METHOD:PUBLISH
X-PUBLISHED-TTL:P3D
REFRESH-INTERVAL:P3D
CALSCALE:GREGORIAN
BEGIN:VEVENT
DTSTART:20100123T200000Z
DTEND:20100123T200000Z
X-MICROSOFT-CDO-ALLDAYEVENT:FALSE
SUMMARY:Extra Space Storage Grand Opening/Ribbon Cutting
DESCRIPTION:Join Chamber Ambassadors at the Grand Opening ribbon cutting of the Extra Space Storage facility at 1539 E. Main in El Cajon.  Food & fun for kids!
X-ALT-DESC;FMTTYPE=text/html:Join Chamber Ambassadors at the Grand Opening ribbon cutting of the Extra Space Storage facility at 1539 E. Main in El Cajon.  Food & fun for kids!
LOCATION:
UID:e.895.336
SEQUENCE:3
DTSTAMP:20260422T051540Z
URL:https://business.eastcountychamber.org/events/details/extra-space-storage-grand-opening-ribbon-cutting-01-23-2010-336
END:VEVENT

END:VCALENDAR
