BEGIN:VCALENDAR
VERSION:2.0
PRODID:-//ChamberMaster//Event Calendar 2.0//EN
METHOD:PUBLISH
X-PUBLISHED-TTL:P3D
REFRESH-INTERVAL:P3D
CALSCALE:GREGORIAN
BEGIN:VEVENT
DTSTART:20251124T160000Z
DTEND:20251127T010000Z
X-MICROSOFT-CDO-ALLDAYEVENT:FALSE
SUMMARY:Feast & Fish
DESCRIPTION:It's the season of gratitude\, good food\, and great fishing! Join us at Lake Jennings for Feast & Fish Week\, where the bites are just as satisfying as the holiday feast. Whether you're reeling in trout for your Thanksgiving table or simply soaking up the crisp autumn air\, it's the perfect way to give thanks for nature's bounty.\n\n\n\nA California state fishing license is required.\n\n \n\nDaily Use (not fishing) Fee: $5/adult (16 years and over)\n\n\n\nFISHING FEES\n\nAdult (16+ years) - $13\n\nSenior & Military (with ID) - $12\n\nYouth (6-15 years) - $9\n\nYouth (0-5) - Free\n\n\n\nBOAT RENTALS\n\n$55 - 5 Hour Motorboat Rental ($14 additional hour)\n\n$30   5 Hour Rowboat Rental ($7 additional hour)\n\n$20   2 Hour Kayak Rental\n\n$20 - Hourly Paddleboat Rental\n\n$30   Hourly Krystal Kanoe Rental (2-person/kanoe) \n\n$12 - Private Boat Launch\n\n \n\n**Ask about our military discount on boat rentals.
X-ALT-DESC;FMTTYPE=text/html:<span style="font-family:tahoma"><span style="font-size:14px">It&rsquo\;s the season of gratitude\, good food\, and great fishing! Join us at Lake Jennings for <strong>Feast &amp\; Fish Week</strong>\, where the bites are just as satisfying as the holiday feast. Whether you&rsquo\;re reeling in trout for your Thanksgiving table or simply soaking up the crisp autumn air\, it&rsquo\;s the perfect way to give thanks for nature&rsquo\;s bounty.<br />\n<br />\n<strong><em>A California state fishing license is required.</em></strong><br />\n&nbsp\;<br />\n<strong>Daily Use (not fishing) Fee: </strong>$5/adult (16 years and over)<br />\n<br />\n<u>FISHING FEES</u><br />\nAdult (16+ years) - $13<br />\nSenior &amp\; Military (with ID) - $12<br />\nYouth (6-15 years) - $9<br />\nYouth (0-5) - Free<br />\n<br />\n<u>BOAT RENTALS</u><br />\n$55 - 5 Hour Motorboat Rental ($14 additional hour)<br />\n$30 &ndash\; 5 Hour Rowboat Rental ($7 additional hour)<br />\n$20 &ndash\; 2 Hour Kayak Rental<br />\n$20 - Hourly Paddleboat Rental<br />\n$30 &ndash\; Hourly Krystal Kanoe Rental (2-person/kanoe)&nbsp\;<br />\n$12 - Private Boat Launch<br />\n&nbsp\;<br />\n**Ask about our military discount on boat rentals.</span></span><br />\n&nbsp\;
LOCATION:
UID:e.895.21151
SEQUENCE:3
DTSTAMP:20260424T084743Z
URL:https://business.eastcountychamber.org/events/details/feast-fish-21151
END:VEVENT

END:VCALENDAR
