BEGIN:VCALENDAR
VERSION:2.0
PRODID:-//ChamberMaster//Event Calendar 2.0//EN
METHOD:PUBLISH
X-PUBLISHED-TTL:P3D
REFRESH-INTERVAL:P3D
CALSCALE:GREGORIAN
BEGIN:VEVENT
DTSTART:20241017T220000Z
DTEND:20241017T230000Z
X-MICROSOFT-CDO-ALLDAYEVENT:FALSE
SUMMARY:Finance Committee Meeting
DESCRIPTION:
X-ALT-DESC;FMTTYPE=text/html:
LOCATION:HYBRID San Diego Regional East County Chamber of Commerce 201 S. Magnolia Ave. El Cajon\, CA 92020 Zoom: https://us06web.zoom.us/j/88633014084
UID:e.895.17396
SEQUENCE:3
DTSTAMP:20260423T003623Z
URL:https://business.eastcountychamber.org/events/details/finance-committee-meeting-10-17-2024-17396
END:VEVENT

END:VCALENDAR
