BEGIN:VCALENDAR
VERSION:2.0
PRODID:-//ChamberMaster//Event Calendar 2.0//EN
METHOD:PUBLISH
X-PUBLISHED-TTL:P3D
REFRESH-INTERVAL:P3D
CALSCALE:GREGORIAN
BEGIN:VEVENT
DTSTART:20260530T020000Z
DTEND:20260530T033000Z
X-MICROSOFT-CDO-ALLDAYEVENT:FALSE
SUMMARY:Free Adult Safety Workshop
DESCRIPTION:Adult Safety Workshop\n\nJoin us for our upcoming Adult Safety Workshop\, May 29th from 7:00-8:30pm. This workshop is a meaningful and empowering experience designed to educate participants on the importance of adult safety through preparative\, preventative\, and protective safety strategies. This workshop is designed to help individuals be smart\, be safe\, and live their best life.\n\nParticipants will walk away with valuable knowledge\, practical tools\, and greater confidence to make safer decisions in everyday life and to better protect themselves and others in their community.\n\nWhat You Will Learn:\n\nPreparation Strategies\n\nLearn how to better prepare for a variety of emergency situations by understanding the importance of situational awareness and recognizing potential risks before they escalate.\n\nPrevention Strategies\n\nDiscover how to help prevent dangerous situations by learning about common attack areas\, avoidance strategies\, attacker motives\, and proactive safety habits.\n\nProtection Strategies\n\nGain practical self-defense knowledge and learn basic strategies and scenarios that can help you respond more effectively in threatening situations.\n\n \n\nDon't miss this valuable workshop experience. Reserve your spot today!\n\nhttps://sparkpages.io/?i=_9XDb
X-ALT-DESC;FMTTYPE=text/html:<p><span style="font-size:14pt"><strong>Adult Safety Workshop</strong></span><br />\n<span style="font-size:14pt">Join us for our upcoming&nbsp\;<strong>Adult Safety Workshop\,&nbsp\;</strong><strong>May 29th from 7:00-8:30pm.&nbsp\;</strong>This workshop is&nbsp\;a meaningful and empowering experience designed to educate participants on the importance of adult safety through&nbsp\;<strong>preparative\, preventative\, and protective safety strategies</strong>. This workshop is designed to help individuals be smart\, be safe\, and live their best life.</span></p>\n\n<p><span style="font-size:14pt">Participants will walk away with valuable knowledge\, practical tools\, and greater confidence to make safer decisions in everyday life and to better protect themselves and others in their community.</span></p>\n\n<p><span style="font-size:14pt"><strong>What You Will Learn:</strong></span></p>\n\n<p><span style="font-size:14pt"><strong>Preparation Strategies</strong></span><br />\n<span style="font-size:14pt">Learn how to better prepare for a variety of emergency situations by understanding the importance of situational awareness and recognizing potential risks before they escalate.</span></p>\n\n<p><span style="font-size:14pt"><strong>Prevention Strategies</strong></span><br />\n<span style="font-size:14pt">Discover how to help prevent dangerous situations by learning about common attack areas\, avoidance strategies\, attacker motives\, and proactive safety habits.</span></p>\n\n<p><span style="font-size:14pt"><strong>Protection Strategies</strong></span><br />\n<span style="font-size:14pt">Gain practical self-defense knowledge and learn basic strategies and scenarios that can help you respond more effectively in threatening situations.</span></p>\n\n<p>&nbsp\;</p>\n\n<p><span style="font-size:14pt">Don&rsquo\;t miss this valuable workshop experience. Reserve your spot today!<br />\n<a href="https://sparkpages.io/?i=_9XDb">https://sparkpages.io/?i=_9XDb</a></span></p>\n
LOCATION:2990 Jamacha Rd unit 180 El Cajon\, Ca 92019
UID:e.895.22094
SEQUENCE:3
DTSTAMP:20260421T002853Z
URL:https://business.eastcountychamber.org/events/details/free-adult-safety-workshop-22094
END:VEVENT

END:VCALENDAR
