BEGIN:VCALENDAR
VERSION:2.0
PRODID:-//ChamberMaster//Event Calendar 2.0//EN
METHOD:PUBLISH
X-PUBLISHED-TTL:P3D
REFRESH-INTERVAL:P3D
CALSCALE:GREGORIAN
BEGIN:VEVENT
DTSTART:20100621T160000Z
DTEND:20100621T190000Z
X-MICROSOFT-CDO-ALLDAYEVENT:FALSE
SUMMARY:FREE Community Job Fair
DESCRIPTION:Congressman Duncan D. Hunter is in the process of organizing a FREE Community Job Fair for East County residents.  This event is free for job seekers & also for companies looking for quality employees.  Companies interested in participating can contact the Congressman's office at 619.449.2251 .  For questions regarding this event\, please contact David Knoll at 619.448.5201.
X-ALT-DESC;FMTTYPE=text/html:Congressman Duncan D. Hunter is in the process of organizing a FREE Community Job Fair for East County residents.&nbsp\; This event is free for job seekers &amp\; also for companies looking for quality employees.&nbsp\; Companies interested in participating can contact the Congressman's office at 619.449.2251 .&nbsp\; For questions regarding this event\, please contact David Knoll at 619.448.5201.
LOCATION:
UID:e.895.384
SEQUENCE:3
DTSTAMP:20260422T232017Z
URL:https://business.eastcountychamber.org/events/details/free-community-job-fair-06-21-2010-384
END:VEVENT

END:VCALENDAR
