BEGIN:VCALENDAR
VERSION:2.0
PRODID:-//ChamberMaster//Event Calendar 2.0//EN
METHOD:PUBLISH
X-PUBLISHED-TTL:P3D
REFRESH-INTERVAL:P3D
CALSCALE:GREGORIAN
BEGIN:VEVENT
DTSTART:20241017T200000Z
DTEND:20241017T220000Z
X-MICROSOFT-CDO-ALLDAYEVENT:FALSE
SUMMARY:FREE Webinar - Cybersecurity – How to Better Prepare for DoD Cybersecurity Requirements
DESCRIPTION:Join the East County SBDC for must-have cyber compliance information. This course was designed in partnership with CMTC (California Manufacturing Technology Center) to provide an overview of the current standards from the NIST 800-171 guidelines and the DFARS Interim rule\, guidance towards how to become cyber-compliant as well as how to select third parties for assistance and what to be aware of with the introduction of the Cybersecurity Maturity Model Certification (CMMC).
X-ALT-DESC;FMTTYPE=text/html:<span style="color: rgb(0\, 0\, 0)\; font-family: Lato\, Arial\, Helvetica\, sans-serif\; font-size: 16px\;">Join the East County SBDC for must-have cyber compliance information. This course was designed in partnership with CMTC (California Manufacturing Technology Center) to provide an overview of the current standards from the NIST 800-171 guidelines and the DFARS Interim rule\, guidance towards how to become cyber-compliant as well as how to select third parties for assistance and what to be aware of with the introduction of the Cybersecurity Maturity Model Certification (CMMC).</span>
LOCATION:ZOOM Register Here: https://sdsbdc.ecenterdirect.com/events/18743
UID:e.895.17834
SEQUENCE:3
DTSTAMP:20260423T001803Z
URL:https://business.eastcountychamber.org/events/details/free-webinar-cybersecurity-how-to-better-prepare-for-dod-cybersecurity-requirements-17834
END:VEVENT

END:VCALENDAR
