BEGIN:VCALENDAR
VERSION:2.0
PRODID:-//ChamberMaster//Event Calendar 2.0//EN
METHOD:PUBLISH
X-PUBLISHED-TTL:P3D
REFRESH-INTERVAL:P3D
CALSCALE:GREGORIAN
BEGIN:VEVENT
DTSTART:20250109T170000Z
DTEND:20250109T200000Z
X-MICROSOFT-CDO-ALLDAYEVENT:FALSE
SUMMARY:Fruit and Veggie Distribution w/ ECTLC
DESCRIPTION:East County Transitional Living Center\, located at 1527 East Main St.\, El Cajon\, CA 92021\, will be hosting this community distribution event on 1/9/2025.\n\n\n\nThe distribution will begin at 9 AM\, and will run until all of the fruit and veggies have gone out.
X-ALT-DESC;FMTTYPE=text/html:<span style="font-size:18px\;">East County Transitional Living Center\, located at 1527 East Main St.\, El Cajon\, CA 92021\, will be hosting this community distribution event on 1/9/2025.<br />\n<br />\nThe distribution will begin at 9 AM\, and will run until all of the fruit and veggies have gone out.</span>
LOCATION:East County Transitional Living Center 1527 East Main St.\, El Cajon\, CA 92021
UID:e.895.18721
SEQUENCE:3
DTSTAMP:20260422T135428Z
URL:https://business.eastcountychamber.org/events/details/fruit-and-veggie-distribution-w-ectlc-18721
END:VEVENT

END:VCALENDAR
